BEGIN:VCALENDAR
VERSION:2.0
PRODID:-//Wengler Wine Club - ECPv4.6.23//NONSGML v1.0//EN
CALSCALE:GREGORIAN
METHOD:PUBLISH
X-WR-CALNAME:Wengler Wine Club
X-ORIGINAL-URL:https://www.wenglerwineclub.lu
X-WR-CALDESC:Évènements pour Wengler Wine Club
BEGIN:VEVENT
DTSTART;VALUE=DATE:20150509
DTEND;VALUE=DATE:20150518
DTSTAMP:20200126T204037
CREATED:20150313T094644Z
LAST-MODIFIED:20150511T090418Z
UID:129-1431129600-1431907199@www.wenglerwineclub.lu
SUMMARY:Foire de Printemps
DESCRIPTION:\n\n\n	\n	\n	\n		\n		\n		\n\n		\n		 \n		\n\n		\n		 \n		\n\n		\n		 \n		\n	\n	\n	\n		\n		\n		\n\n		\n		TELECHARGEZ VOTRE INVITATION : \n		\n\n		\n		 \n		\n	\n\n	\n			\n\n			.tp-caption.largeboldwhitewengler\,.largeboldwhitewengler{font-size:30px;line-height:60px;font-weight:600;font-family:"Open Sans";color:rgb(255\,255\,255);text-decoration:none;background-color:transparent;border-width:0px;border-color:rgb(0\,0\,0);border-style:none}\n\n			\n\n				/******************************************\n					-	PREPARE PLACEHOLDER FOR SLIDER	-\n				******************************************/\n				\n\n				var setREVStartSize = function() {\n					var	tpopt = new Object();\n						tpopt.startwidth = 940;\n						tpopt.startheight = 342;\n						tpopt.container = jQuery('#rev_slider_1_1');\n						tpopt.fullScreen = "off";\n						tpopt.forceFullWidth="off";\n\n					tpopt.container.closest(".rev_slider_wrapper").css({height:tpopt.container.height()});tpopt.width=parseInt(tpopt.container.width()\,0);tpopt.height=parseInt(tpopt.container.height()\,0);tpopt.bw=tpopt.width/tpopt.startwidth;tpopt.bh=tpopt.height/tpopt.startheight;if(tpopt.bh>tpopt.bw)tpopt.bh=tpopt.bw;if(tpopt.bh1){tpopt.bw=1;tpopt.bh=1}tpopt.height=Math.round(tpopt.startheight*(tpopt.width/tpopt.startwidth));if(tpopt.height>tpopt.startheight&&tpopt.autoHeight!="on")tpopt.height=tpopt.startheight;if(tpopt.fullScreen=="on"){tpopt.height=tpopt.bw*tpopt.startheight;var cow=tpopt.container.parent().width();var coh=jQuery(window).height();if(tpopt.fullScreenOffsetContainer!=undefined){try{var offcontainers=tpopt.fullScreenOffsetContainer.split("\,");jQuery.each(offcontainers\,function(e\,t){coh=coh-jQuery(t).outerHeight(true);if(coh
URL:https://www.wenglerwineclub.lu/les-prochains-evenements/foire-de-printemps/
LOCATION:Luxexpo\, 10 circuit de la Foire Internationale\, Luxembourg\, 1347\, Luxembourg
CATEGORIES:Dégustations
END:VEVENT
END:VCALENDAR