BEGIN:VCALENDAR
VERSION:2.0
PRODID:-//Wengler Wine Club - ECPv4.6.23//NONSGML v1.0//EN
CALSCALE:GREGORIAN
METHOD:PUBLISH
X-WR-CALNAME:Wengler Wine Club
X-ORIGINAL-URL:https://www.wenglerwineclub.lu
X-WR-CALDESC:Évènements pour Wengler Wine Club
BEGIN:VEVENT
DTSTART;VALUE=DATE:20170614
DTEND;VALUE=DATE:20170619
DTSTAMP:20200126T204111
CREATED:20170529T132807Z
LAST-MODIFIED:20170601T115316Z
UID:2541-1497398400-1497830399@www.wenglerwineclub.lu
SUMMARY:Expovin Luxembourg
DESCRIPTION:Expovin est le premier événement dédié au vin\, à la bière\, aux spiritueux et à la gastronomie au Luxembourg. \nLe collectif rassemble un grand nombre d’importateurs et de producteurs qui sont avant tout des passionnés. \nA cette occasion\, toute l’équipe des Caves Wengler vous accueillera dans une ambiance moderne afin de déguster près de 315 vins ! Parmi cette formidable sélection\, vous découvrirez une foule de vins parfait pour l’été\, Loire / Provence & Languedoc en tête mais également les classiques Bordelais et Bourguignons\, sans oublier notre formidable sélection Italienne ! L‘Allemagne et l’Autriche nous régaleront tout autant de leurs diversités. \nLes fines bulles des Champagnes Veuve Clicquot compléteront ce florilège à ne pas manquer 🙂 \nVenez nous rejoindre du 14 au 18 juin 2017 au Hall Victor Hugo au Limpertsberg de 16h à 21h en semaine\, puis de 11h à 19h le week-end. \nA très bientôt\, \nGérard Wengler et son équipe \n  \n\nTickets d’entrée gratuits : Imprimer vos invitations\nCatalogue : Expovin Caves Wengler 2017\nOnline-shop : wengler.lu\n\n  \n
URL:https://www.wenglerwineclub.lu/les-prochains-evenements/expovin-luxembourg/
LOCATION:Hall Victor Hugo\, 60 Avenue Victor Hugo\, Luxembourg\, 1750\, Luxembourg
CATEGORIES:Dégustations
ATTACH;FMTTYPE=image/jpeg:https://www.wenglerwineclub.lu/wp-content/uploads/2017/05/Expovin-FB-Post-0517-e1496239801398.jpg
END:VEVENT
END:VCALENDAR