BEGIN:VCALENDAR
VERSION:2.0
PRODID:-//Wengler Wine Club - ECPv4.6.23//NONSGML v1.0//EN
CALSCALE:GREGORIAN
METHOD:PUBLISH
X-WR-CALNAME:Wengler Wine Club
X-ORIGINAL-URL:https://www.wenglerwineclub.lu
X-WR-CALDESC:Évènements pour Wengler Wine Club
BEGIN:VEVENT
DTSTART;TZID=Europe/Luxembourg:20191109T100000
DTEND;TZID=Europe/Luxembourg:20191109T180000
DTSTAMP:20210720T162533
CREATED:20190718T095406Z
LAST-MODIFIED:20191018T092448Z
UID:4050-1573293600-1573322400@www.wenglerwineclub.lu
SUMMARY:Dégustation Bourgogne Millésime 2017
DESCRIPTION:\n\n\n	\n	\n	\n		\n		\n		\n\n		\n		 \n		\n\n		\n		 \n		\n\n		\n		 \n		\n	\n	\n	\n		\n		\n		\n\n		\n		 \n		\n\n		\n		 \n		\n\n		\n		 \n		\n	\n\n	\n			\n\n			\n\n			\n\n				/******************************************\n					-	PREPARE PLACEHOLDER FOR SLIDER	-\n				******************************************/\n				\n\n				var setREVStartSize = function() {\n					var	tpopt = new Object();\n						tpopt.startwidth = 940;\n						tpopt.startheight = 358;\n						tpopt.container = jQuery('#rev_slider_21_1');\n						tpopt.fullScreen = "off";\n						tpopt.forceFullWidth="off";\n\n					tpopt.container.closest(".rev_slider_wrapper").css({height:tpopt.container.height()});tpopt.width=parseInt(tpopt.container.width()\,0);tpopt.height=parseInt(tpopt.container.height()\,0);tpopt.bw=tpopt.width/tpopt.startwidth;tpopt.bh=tpopt.height/tpopt.startheight;if(tpopt.bh>tpopt.bw)tpopt.bh=tpopt.bw;if(tpopt.bh1){tpopt.bw=1;tpopt.bh=1}tpopt.height=Math.round(tpopt.startheight*(tpopt.width/tpopt.startwidth));if(tpopt.height>tpopt.startheight&&tpopt.autoHeight!="on")tpopt.height=tpopt.startheight;if(tpopt.fullScreen=="on"){tpopt.height=tpopt.bw*tpopt.startheight;var cow=tpopt.container.parent().width();var coh=jQuery(window).height();if(tpopt.fullScreenOffsetContainer!=undefined){try{var offcontainers=tpopt.fullScreenOffsetContainer.split("\,");jQuery.each(offcontainers\,function(e\,t){coh=coh-jQuery(t).outerHeight(true);if(coh
URL:https://www.wenglerwineclub.lu/les-prochains-evenements/degustation-bourgogne-millesime-2017/
LOCATION:Wengler Châteaux et Domaines\, 2\, rue Neuve\, Rosport\, 6581\, Luxembourg
CATEGORIES:Dégustations
ATTACH;FMTTYPE=image/jpeg:https://www.wenglerwineclub.lu/wp-content/uploads/2019/07/MBIS_2560_DSC7288-Modifier-22.jpg
END:VEVENT
END:VCALENDAR